BEGIN:VCALENDAR
VERSION:2.0
PRODID:-//VSG Ammerland - ECPv6.15.20//NONSGML v1.0//EN
CALSCALE:GREGORIAN
METHOD:PUBLISH
X-WR-CALNAME:VSG Ammerland
X-ORIGINAL-URL:https://www.vsg-ammerland.de
X-WR-CALDESC:Veranstaltungen für VSG Ammerland
REFRESH-INTERVAL;VALUE=DURATION:PT1H
X-Robots-Tag:noindex
X-PUBLISHED-TTL:PT1H
BEGIN:VTIMEZONE
TZID:UTC
BEGIN:STANDARD
TZOFFSETFROM:+0000
TZOFFSETTO:+0000
TZNAME:UTC
DTSTART:20250101T000000
END:STANDARD
END:VTIMEZONE
BEGIN:VEVENT
DTSTART;TZID=UTC:20260425T140000
DTEND;TZID=UTC:20260425T160000
DTSTAMP:20260423T074639
CREATED:20260304T155626Z
LAST-MODIFIED:20260304T155626Z
UID:6830-1777125600-1777132800@www.vsg-ammerland.de
SUMMARY:SG Ofenerdiek/Ofen - VSG II
DESCRIPTION:
URL:https://www.vsg-ammerland.de/event/sg-ofenerdiek-ofen-vsg-ii/
CATEGORIES:2. Herren
END:VEVENT
BEGIN:VEVENT
DTSTART;TZID=UTC:20260426T110000
DTEND;TZID=UTC:20260426T130000
DTSTAMP:20260423T074639
CREATED:20260304T160140Z
LAST-MODIFIED:20260304T160513Z
UID:6836-1777201200-1777208400@www.vsg-ammerland.de
SUMMARY:VSG U18 - SV Plaggenburg I
DESCRIPTION:
URL:https://www.vsg-ammerland.de/event/vsg-u18-sv-plaggenburg-i/
LOCATION:Sporthalle der Oberschule Westerstede
CATEGORIES:Jugend
END:VEVENT
BEGIN:VEVENT
DTSTART;TZID=UTC:20260426T130000
DTEND;TZID=UTC:20260426T150000
DTSTAMP:20260423T074639
CREATED:20260304T160236Z
LAST-MODIFIED:20260304T160448Z
UID:6838-1777208400-1777215600@www.vsg-ammerland.de
SUMMARY:VSG U18 - VG Ostfriesland Süd
DESCRIPTION:
URL:https://www.vsg-ammerland.de/event/vsg-u18-vg-ostfriesland-sued/
LOCATION:Sporthalle der Oberschule Westerstede
CATEGORIES:Jugend
END:VEVENT
END:VCALENDAR